BEGIN:VCALENDAR

VERSION:2.0

PRODID:-//wp-events-plugin.com//7.2.2.1//EN

TZID:Asia/Jerusalem

X-WR-TIMEZONE:Asia/Jerusalem
BEGIN:VEVENT

UID:1246@biology.technion.ac.il

DTSTART;TZID=Asia/Jerusalem:20241103T093000

DTEND;TZID=Asia/Jerusalem:20241103T113000

DTSTAMP:20241014T114310Z

URL:https://biology.technion.ac.il/en/seminars/2024-nobel-prize-insights-s
 ymposium/

SUMMARY:2024 Nobel Prize Insights Symposium [No Categories]
DESCRIPTION:Location:   \n Affiliation: \n Host:\n We invite you to join us
  for an engaging informal symposium where we will present and explain this
  year's Nobel Prize-winning breakthroughs in the fields of Physics\, Chemi
 stry\, and Medicine.\nEach talk will present the initial groundbreaking di
 scoveries\, the scientists behind them\, and their lasting impact on scien
 ce and society.\n\nNobel Prize in Physics\nNeural Network\, AI- John J. Ho
 pfield and Geoffrey E. Hinton\nPresented by Dvir Aran and Roy Kishony\n\nN
 obel Prize in Chemistry\nProtein structure- David Baker\, Demis Hassabis a
 nd John M. Jumper\nPresented by Fabian Glaser\n\nNobel Prize in Physiology
  and Medicine\nmicroRNA- Victor Ambros and Gary Ruvkun\nPresented by Ayele
 t Lamm\nWhen: November 3rd\, 2024\, 09:30\nZoom Link: https://technion.zo
 om.us/j/99423710438\n&nbsp\;\n\nOrganized by Roy Kishony and Sivan Geisler
 -Edelbaum\n\n&nbsp\; 

END:VEVENT

BEGIN:VTIMEZONE

TZID:Asia/Jerusalem

X-LIC-LOCATION:Asia/Jerusalem

BEGIN:STANDARD

DTSTART:20241027T010000

TZOFFSETFROM:+0300

TZOFFSETTO:+0200

TZNAME:IST

END:STANDARD

END:VTIMEZONE
END:VCALENDAR