BEGIN:VCALENDAR

VERSION:2.0

PRODID:-//wp-events-plugin.com//7.2.2.1//EN

TZID:Asia/Jerusalem

X-WR-TIMEZONE:Asia/Jerusalem
BEGIN:VEVENT

UID:1179@biology.technion.ac.il

DTSTART;TZID=Asia/Jerusalem:20230627T130000

DTEND;TZID=Asia/Jerusalem:20230627T140000

DTSTAMP:20230608T121017Z

URL:https://biology.technion.ac.il/en/seminars/biodesign-israel-innovation
 -meeting-in-the-faculty-of-biology-dr-lior-lev-tov/

SUMMARY:Biodesign Israel Innovation- meeting in the Faculty of Biology- Dr.
  Yona Vaisbuch Founder of Biodesign Israel [No Categories]
DESCRIPTION:Location: Faculty Of Biology Auditorium  Dr. Yona Vaisbuch \n A
 ffiliation: \n Host:\n Dear Biology Faculty Students\,\n\nWe are excited t
 o invite you to an exclusive meeting with a visionary leader in the health
 tech field\, and our esteemed Founding Director\, Yona Vaisbuch\, where yo
 u will have the opportunity to explore the fascinating intersection of Bio
 design and Biology. Together\, we'll delve into the proven healthtech inno
 vation method that originated at Stanford CA\, 'design thinking' as a way 
 of life\, and the transformative power of a multidisciplinary approach. Jo
 in us on Tuesday\, June 27\, 2023\, from 1pm to 2pm to uncover how this on
 e-year program connects you to the vibrant ecosystem and industry upon you
 r graduation. We believe that the convergence of Biodesign and Biology hol
 ds immense promise for shaping the future of healthcare. By participating 
 in our program\, you'll embark on a transformative journey where your expe
 rtise in biology intersects with the practical applications of healthtech 
 innovation.\n\nThrough hands-on experiences and collaborations with expert
 s from diverse fields\, including engineering\, medicine\, and business\, 
 you'll gain a comprehensive understanding of the healthcare landscape. We'
 ll explore how to identify unmet medical needs\, scope and develop innovat
 ive solutions and navigate the intricacies of bringing them to market. Dur
 ing this meeting\, we'll discuss how Biodesign Israel nurtures your potent
 ial\, connects you to the industry\, and fosters a mindset of innovation.\
 n\nWe look forward to welcoming you to this engaging meeting!\n\nBest rega
 rds\n\nBiodesign Israel 
LOCATION:Faculty Of Biology Auditorium

END:VEVENT

BEGIN:VTIMEZONE

TZID:Asia/Jerusalem

X-LIC-LOCATION:Asia/Jerusalem

BEGIN:DAYLIGHT

DTSTART:20230324T030000

TZOFFSETFROM:+0200

TZOFFSETTO:+0300

TZNAME:IDT

END:DAYLIGHT

END:VTIMEZONE
END:VCALENDAR