BEGIN:VCALENDAR

VERSION:2.0

PRODID:-//wp-events-plugin.com//7.2.2.1//EN

TZID:Asia/Jerusalem

X-WR-TIMEZONE:Asia/Jerusalem
BEGIN:VEVENT

UID:1168@biology.technion.ac.il

DTSTART;TZID=Asia/Jerusalem:20230501T130000

DTEND;TZID=Asia/Jerusalem:20230501T140000

DTSTAMP:20230418T103650Z

URL:https://biology.technion.ac.il/en/seminars/faculty-seminar-assoc-prof-
 sigal-savaldi-goldstein/

SUMMARY:Faculty Seminar -Assoc. Prof. Sigal Savaldi-Goldstein [No Categorie
 s]
DESCRIPTION:Location: Biology auditorium  Assoc. Prof. Sigal Savaldi-Goldst
 ein\n Affiliation: \n Host:Dr.Sagi Levy\n The ins and outs of meristem fun
 ction and shape\n\n&nbsp\;\n\nAbstract:\n\n&nbsp\;\n\nGrowth extent and di
 rection determine cell and whole-organ architecture. How they are spatio-t
 emporally coordinated across distinct cell types is one of the questions t
 ackled in our lab. Using a variety of approaches ranging from developmenta
 l genetics to precise single-cell tools that quantify growth parameters in
  4D\, we study the role of hormonal signaling\, tissue identity and mechan
 ical constraints that together dictate the developmental output. We focus 
 on the Arabidopsis root as a model organ and on the critical brassinostero
 id signaling pathway\, as an entry point to elucidate developmental proces
 ses and their interaction with the environment. This talk will present our
  current understanding regarding growth directionality at both the cell an
 d meristem levels\, coordination between meristematic cells as well as the
  function of the meristem.\n\n&nbsp\;\n\n&nbsp\;\n\n&nbsp\;\n\n&nbsp\; 
LOCATION:Biology auditorium

END:VEVENT

BEGIN:VTIMEZONE

TZID:Asia/Jerusalem

X-LIC-LOCATION:Asia/Jerusalem

BEGIN:DAYLIGHT

DTSTART:20230324T030000

TZOFFSETFROM:+0200

TZOFFSETTO:+0300

TZNAME:IDT

END:DAYLIGHT

END:VTIMEZONE
END:VCALENDAR