BEGIN:VCALENDAR

VERSION:2.0

PRODID:-//wp-events-plugin.com//7.2.2.1//EN

TZID:Asia/Jerusalem

X-WR-TIMEZONE:Asia/Jerusalem
BEGIN:VEVENT

UID:1261@biology.technion.ac.il

DTSTART;TZID=Asia/Jerusalem:20250106T130000

DTEND;TZID=Asia/Jerusalem:20250106T140000

DTSTAMP:20241231T113938Z

URL:https://biology.technion.ac.il/en/seminars/faculty-seminar-dr-neta-gaz
 it-shimoni-6-1/

SUMMARY:Faculty seminar - Dr. Neta Gazit Shimoni 6/1 [No Categories]
DESCRIPTION:Location: Biology auditorium and by ZOOM:https://technion.zoom.
 us/j/91374645319   Dr. Neta Gazit Shimoni\n Affiliation: Department of Neu
 roscience\, University of California at Berkeley\n Host:Dr. Inbal Shainer 
 \n Dear all\,\n\n&nbsp\;\n\nOur next seminar will be given by Dr. Neta Gaz
 it Shimoni from the Department of Neuroscience\, University of California 
 at Berkeley.\n\n&nbsp\;\n\nPlace and time: Biology auditorium\, Monday 6/1
 /2025 at 13:00.\n\n&nbsp\;\n\nTitle: Regulation of Brain Function and Dis
 ease by Neuropeptides\n\n&nbsp\;\n\nLooking forward to seeing you all\,\n\
 nInbal\n\n&nbsp\;\n\nZoom link: https://technion.zoom.us/j/91374645319\n\
 n&nbsp\;\n\n&nbsp\;\n\nFor inquiries regarding the course\, please contact
  Prof. Dedi Meiri &lt\;dmeiri@technion.ac.il&gt\;\n\n&nbsp\; 
LOCATION:Biology auditorium and by ZOOM:https://technion.zoom.us/j/91374645
 319 

END:VEVENT

BEGIN:VTIMEZONE

TZID:Asia/Jerusalem

X-LIC-LOCATION:Asia/Jerusalem

BEGIN:STANDARD

DTSTART:20241027T010000

TZOFFSETFROM:+0300

TZOFFSETTO:+0200

TZNAME:IST

END:STANDARD

END:VTIMEZONE
END:VCALENDAR