BEGIN:VCALENDAR

VERSION:2.0

PRODID:-//wp-events-plugin.com//7.2.2.1//EN

TZID:Asia/Jerusalem

X-WR-TIMEZONE:Asia/Jerusalem
BEGIN:VEVENT

UID:1180@biology.technion.ac.il

DTSTART;TZID=Asia/Jerusalem:20230612T131500

DTEND;TZID=Asia/Jerusalem:20230612T141500

DTSTAMP:20230606T091420Z

URL:https://biology.technion.ac.il/en/seminars/faculty-seminar-dr-omri-wur
 tzel-monday-12-6-at-1300/

SUMMARY:Faculty Seminar: Dr. Omri Wurtzel\, Monday 12/6 at 13:15 [No Catego
 ries]
DESCRIPTION:Location: Faculty Of Biology Auditorium  Dr. Omri Wurtzel\n Aff
 iliation: Department of Biochemistry and Molecular Biology at the Faculty 
 of Life Sciences in Tel Aviv University\n Host:Dr. Sagi Levy\n No commitme
 nts: Planarian stem cells in regeneration and homeostasis\n\nAbstract\n\nR
 egeneration\, the regrowth of missing organs\, is a widespread survival st
 rategy contributing to recovery from injury and disease. My lab studies fu
 ndamental aspects of regeneration by using invertebrate model organisms th
 at have a remarkable capacity to regenerate: They can grow their entire he
 ad. In the seminar\, I will present two studies from our lab\, the first o
 n stem cell differentiation regulation by RNA modifications\, and the se
 cond on RNAi memory in stem cells. Together\, these studies provide insig
 hts into molecular mechanisms that facilitate regeneration and maintenance
  of pluripotency in adult organisms.\n\n&nbsp\;\n\n&nbsp\; 
LOCATION:Faculty Of Biology Auditorium

END:VEVENT

BEGIN:VTIMEZONE

TZID:Asia/Jerusalem

X-LIC-LOCATION:Asia/Jerusalem

BEGIN:DAYLIGHT

DTSTART:20230324T030000

TZOFFSETFROM:+0200

TZOFFSETTO:+0300

TZNAME:IDT

END:DAYLIGHT

END:VTIMEZONE
END:VCALENDAR