BEGIN:VCALENDAR

VERSION:2.0

PRODID:-//wp-events-plugin.com//7.2.2.1//EN

TZID:Asia/Jerusalem

X-WR-TIMEZONE:Asia/Jerusalem
BEGIN:VEVENT

UID:1210@biology.technion.ac.il

DTSTART;TZID=Asia/Jerusalem:20240226T130000

DTEND;TZID=Asia/Jerusalem:20240226T140000

DTSTAMP:20240221T141926Z

URL:https://biology.technion.ac.il/en/seminars/faculty-seminar-dr-yaara-or
 en/

SUMMARY:Faculty Seminar - Dr. Yaara Oren [No Categories]
DESCRIPTION:Location: Hybrid- in the Faculty Auditorium/ZOOM:   https://tec
 hnion.zoom.us/j/91883783153  Dr. Yaara Oren \n Affiliation: \n Host:Prof. 
 Dedi Meiri \n Dear all\,\n\n&nbsp\;\n\nThis week the seminar will be given
  by Dr. Yaara Oren from the School of Medicine at Tel Aviv University.\
 n\n&nbsp\;\n\nPlace and time: Biology auditorium\, Monday 26/2 at 13:00.\
 n\n&nbsp\;\n\nTitle: The day after the drug: Investigating drug-induced 
  cellular memory\n\n&nbsp\;\n\nOren lab website: https://www.yaaraoren.s
 ites.tau.ac.il/\n\n&nbsp\;\n\nZoom link: https://technion.zoom.us/j/91883
 783153\n\nFor inquiries regarding the course\, please contact Prof. Dedi 
 Meiri &lt\;dmeiri@technion.ac.il&gt\;. 
LOCATION:Hybrid- in the Faculty Auditorium/ZOOM:   https://technion.zoom.us
 /j/91883783153

END:VEVENT

BEGIN:VTIMEZONE

TZID:Asia/Jerusalem

X-LIC-LOCATION:Asia/Jerusalem

BEGIN:STANDARD

DTSTART:20231029T010000

TZOFFSETFROM:+0300

TZOFFSETTO:+0200

TZNAME:IST

END:STANDARD

END:VTIMEZONE
END:VCALENDAR