BEGIN:VCALENDAR

VERSION:2.0

PRODID:-//wp-events-plugin.com//7.2.2.1//EN

TZID:Asia/Jerusalem

X-WR-TIMEZONE:Asia/Jerusalem
BEGIN:VEVENT

UID:1251@biology.technion.ac.il

DTSTART;TZID=Asia/Jerusalem:20241125T130000

DTEND;TZID=Asia/Jerusalem:20241125T140000

DTSTAMP:20241118T143117Z

URL:https://biology.technion.ac.il/en/seminars/faculty-seminar-dr-yaniv-el
 kouby-25-11-in-person/

SUMMARY:Faculty Seminar - Dr. Yaniv Elkouby- "Illuminating Unpredicted Cell
 ular Machineries in Germ Cell Production and Reproduction" [No Categories]
DESCRIPTION:Location: Hybrid- in the Faculty Auditorium/ZOOM: https://techn
 ion.zoom.us/j/91374645319  Dr. Yaniv Elkouby\n Affiliation: Department of 
 Developmental Biology and Cancer Research\, Faculty of Medicine\, The Hebr
 ew University of Jerusalem\n Host:Dr. Shainer Inbal\n Dear all\,\n\n&nbsp\
 ;\n\nOur next seminar will be given by Dr. Yaniv Elkouby from the Departme
 nt of Developmental Biology and Cancer Research\, Faculty of Medicine\, T
 he Hebrew University of Jerusalem.\n\n&nbsp\;\n\nPlace and time: Biology a
 uditorium\, Monday 25/11 at 13:00.\n\n&nbsp\;\n\nTitle: Illuminating Unpre
 dicted Cellular Machineries in Germ Cell Production and Reproduction\n\n&n
 bsp\;\n\nElkouby lab website: https://www.yanivelkoubylab.com/\n\n&nbsp\;\
 n\nLooking forward to seeing you all\,\n\nInbal\n\n&nbsp\;\n\nZoom link: 
 https://technion.zoom.us/j/91374645319 Please note that this is the update
 d link for this year!\n\n&nbsp\;\n\n&nbsp\;\n\nFor inquiries regarding the
  course\, please contact Prof. Dedi Meiri &lt\;dmeiri@technion.ac.il&gt\;
  
LOCATION:Hybrid- in the Faculty Auditorium/ZOOM: https://technion.zoom.us/j
 /91374645319

END:VEVENT

BEGIN:VTIMEZONE

TZID:Asia/Jerusalem

X-LIC-LOCATION:Asia/Jerusalem

BEGIN:STANDARD

DTSTART:20241027T010000

TZOFFSETFROM:+0300

TZOFFSETTO:+0200

TZNAME:IST

END:STANDARD

END:VTIMEZONE
END:VCALENDAR