BEGIN:VCALENDAR

VERSION:2.0

PRODID:-//wp-events-plugin.com//7.2.2.1//EN

TZID:Asia/Jerusalem

X-WR-TIMEZONE:Asia/Jerusalem
BEGIN:VEVENT

UID:1252@biology.technion.ac.il

DTSTART;TZID=Asia/Jerusalem:20241202T130000

DTEND;TZID=Asia/Jerusalem:20241202T140000

DTSTAMP:20241127T070917Z

URL:https://biology.technion.ac.il/en/seminars/faculty-seminar-paper-of-th
 e-month-winners-2-12-in-person/

SUMMARY:Faculty seminar - Paper of the month winners 2.12 [In-person] [No C
 ategories]
DESCRIPTION:Location: Hybrid- in the Faculty Auditorium/ZOOM:  https://tech
 nion.zoom.us/j/91374645319    \n Affiliation:  \n Host:Dr. Shainer Inbal\n
  &nbsp\;\n\nBerta Eliad (Lamm Lab):\n\n"ADBP-1 regulates ADR-2 nuclear loc
 alization to control editing substrate selection"\, Nucleic Acids Research
 .\n\n \n\nFeras Machour (Ayoub Lab):\n\n"Harnessing DNA replication stres
 s to target RBM10 deficiency in lung adenocarcinoma"\, Nature Communicatio
 ns.\n\n \n\nJohannes Venezian (Shiber Lab):\n\n"Structural determinants o
 f co-translational protein complex assembly" cell- in press.\n\n \n\nGuy 
 Levin (Schuster Lab):\n\n"Processes independent of nonphotochemical quench
 ing protect a high-light-tolerant desert alga from oxidative stress" Plant
  Physiology.\n\n&nbsp\;\n\n&nbsp\;\n\nPlace and time: Biology auditorium\,
  Monday 2/12 at 13:00.\n\n&nbsp\;\n\nLooking forward to seeing you all\,\n
 \nInbal\n\n&nbsp\;\n\nZoom link: https://technion.zoom.us/j/91374645319\n
 \n&nbsp\;\n\nFor inquiries regarding the course\, please contact Prof. Ded
 i Meiri &lt\;dmeiri@technion.ac.il&gt\;\n\n&nbsp\; 
LOCATION:Hybrid- in the Faculty Auditorium/ZOOM:  https://technion.zoom.us/
 j/91374645319 

END:VEVENT

BEGIN:VTIMEZONE

TZID:Asia/Jerusalem

X-LIC-LOCATION:Asia/Jerusalem

BEGIN:STANDARD

DTSTART:20241027T010000

TZOFFSETFROM:+0300

TZOFFSETTO:+0200

TZNAME:IST

END:STANDARD

END:VTIMEZONE
END:VCALENDAR