BEGIN:VCALENDAR

VERSION:2.0

PRODID:-//wp-events-plugin.com//7.2.2.1//EN

TZID:Asia/Jerusalem

X-WR-TIMEZONE:Asia/Jerusalem
BEGIN:VEVENT

UID:1209@biology.technion.ac.il

DTSTART;TZID=Asia/Jerusalem:20240318T130000

DTEND;TZID=Asia/Jerusalem:20240318T140000

DTSTAMP:20240214T074335Z

URL:https://biology.technion.ac.il/en/seminars/faculty-seminar-paper-of-th
 e-month-winners-graduate-student-lectures/

SUMMARY:Faculty Seminar- "Paper Of The Month" winners- Graduate Students le
 ctures [No Categories]
DESCRIPTION:Location: Biology auditorium   Ariel Chazan\,Anwar Bdarneh\,Pel
 eg Ragonis Bachar\,Bella Ben-Oz\n Affiliation:   \n Host:Associate Prof. M
 eiri David\n The Faculty of Biology will host our Graduate Students who wo
 n the prize for the outstanding "Paper Of The Month" in recent months at t
 he Faculty of Biology:\n\n 	 Ariel Chazan- Beja Lab- Ariel won the prestig
 ious award for the "outstanding paper of the year- for 2023" in the Facult
 y of Biology for his paper: "Phototrophy by antenna-containing rhodopsin p
 umps in aquatic environments" Nature.\n 	 Anwar Bdarneh-Glickman Lab- "Alt
 ered ubiquitin signaling induces Alzheimer’s disease-like hallmarks in a
  three-dimensional human neural cell culture model"\, Nature Communication
 s.\n 	 Peleg Ragonis Bachar-Landau Lab: "What can AlphaFold do for antimic
 robial amyloids?" Proteins.\n 	 Bella Ben-Oz-Ayoub Lab-"A dual role of RBM
 42 in modulating splicing and translation of CDKN1A/p21\nduring DNA damage
  response". Nature Communications.\n 
LOCATION:Biology auditorium

END:VEVENT

BEGIN:VTIMEZONE

TZID:Asia/Jerusalem

X-LIC-LOCATION:Asia/Jerusalem

BEGIN:STANDARD

DTSTART:20231029T010000

TZOFFSETFROM:+0300

TZOFFSETTO:+0200

TZNAME:IST

END:STANDARD

END:VTIMEZONE
END:VCALENDAR