BEGIN:VCALENDAR

VERSION:2.0

PRODID:-//wp-events-plugin.com//7.2.2.1//EN

TZID:Asia/Jerusalem

X-WR-TIMEZONE:Asia/Jerusalem
BEGIN:VEVENT

UID:1237@biology.technion.ac.il

DTSTART;TZID=Asia/Jerusalem:20240729T130000

DTEND;TZID=Asia/Jerusalem:20240729T140000

DTSTAMP:20240724T104934Z

URL:https://biology.technion.ac.il/en/seminars/faculty-seminar-papers-of-t
 he-month/

SUMMARY:Faculty Seminar - Papers of the Month [No Categories]
DESCRIPTION:Location: Biology auditorium  Joshua Hazan\, Johannes Augus Ven
 ezian\, Guy Levin\, Dharanibalan Kasiviswanathan\n Affiliation: \n Host:Dr
 . Dvir Aran\n Dear all\,\n\n&nbsp\;\n\nThis week we will have four short t
 alks by recent winners of the “paper of the month” award.\n\n 	Joshua 
 Hazan\, Bester lab\nIntegration of transcription regulation and functional
  genomic data reveals lncRNA SNHG6’s role in hematopoietic differentiati
 on and leukemia (Journal of Biomedical Science\, 2024)\n 	Johannes Augus V
 enezian\, Shiber lab\nDiverging co-translational protein complex assembly 
 pathways are governed by interface energy distribution (Nature Communicati
 ons\, 2024)\n 	Guy Levin\, Schuster lab\nDiverging co-translational protei
 n complex assembly pathways are governed by interface energy distribution 
 (New Phytologist\, 2024)\n 	Dharanibalan Kasiviswanathan\, Shemer lab\nPro
 teasome gene expression is controlled by coordinated functions of multiple
  transcription factors (Journal of Cell Biology\, 2024)\n\n&nbsp\;\n\nPlac
 e and time: Biology auditorium\, Monday 29/7 at 13:00.\n\n&nbsp\;\n\nLook
 ing forward to seeing you all\,\n\nDvir\n\n&nbsp\;\n\nZoom link: https://
 technion.zoom.us/j/95890487524\n\nFor inquiries regarding the course\, ple
 ase contact Prof. Dedi Meiri &lt\;dmeiri@technion.ac.il&gt\;. 
LOCATION:Biology auditorium

END:VEVENT

BEGIN:VTIMEZONE

TZID:Asia/Jerusalem

X-LIC-LOCATION:Asia/Jerusalem

BEGIN:DAYLIGHT

DTSTART:20240329T030000

TZOFFSETFROM:+0200

TZOFFSETTO:+0300

TZNAME:IDT

END:DAYLIGHT

END:VTIMEZONE
END:VCALENDAR