BEGIN:VCALENDAR

VERSION:2.0

PRODID:-//wp-events-plugin.com//7.2.2.1//EN

TZID:Asia/Jerusalem

X-WR-TIMEZONE:Asia/Jerusalem
BEGIN:VEVENT

UID:1175@biology.technion.ac.il

DTSTART;TZID=Asia/Jerusalem:20230522T130000

DTEND;TZID=Asia/Jerusalem:20230522T140000

DTSTAMP:20230508T114722Z

URL:https://biology.technion.ac.il/en/seminars/faculty-seminar-prof-asya-r
 olls/

SUMMARY:Faculty Seminar: Prof. Asya Rolls [No Categories]
DESCRIPTION:Location: Biology auditorium  Prof. Asya Rolls \n Affiliation: 
 \n Host:Dr. Sagi Levy\n Immunoception: brain representation and control of
  peripheral immunity \n\n&nbsp\;\n\nThoughts and emotions can impact phys
 iology. This connection is evident in the emergence of disease following s
 tress\, psychosomatic disorders\, or recovery in response to placebo treat
 ment. Nevertheless\, this fundamental aspect of physiology remains largely
  unexplored. In this talk\, I will focus on the bidirectional communicatio
 n between the brain and the immune system\, a mechanism we recently coined
  as immunoception. The brain represents that state of the immune response 
 and forms “immunengrams” that can regulate different immune reactions.
  In this talk\, I will discuss how the brain stores and represents immune 
 information and how the brain’s predictive capacity can be implemented i
 n central immune system control. A mechanistic understanding of the neuro-
 immune dialog has potential implications for understanding and treating ps
 ychosomatic and autoimmune disorders and may offer new avenues for immune-
 modulation. 
LOCATION:Biology auditorium

END:VEVENT

BEGIN:VTIMEZONE

TZID:Asia/Jerusalem

X-LIC-LOCATION:Asia/Jerusalem

BEGIN:DAYLIGHT

DTSTART:20230324T030000

TZOFFSETFROM:+0200

TZOFFSETTO:+0300

TZNAME:IDT

END:DAYLIGHT

END:VTIMEZONE
END:VCALENDAR