BEGIN:VCALENDAR

VERSION:2.0

PRODID:-//wp-events-plugin.com//7.2.2.1//EN

TZID:Asia/Jerusalem

X-WR-TIMEZONE:Asia/Jerusalem
BEGIN:VEVENT

UID:1213@biology.technion.ac.il

DTSTART;TZID=Asia/Jerusalem:20240311T130000

DTEND;TZID=Asia/Jerusalem:20240311T140000

DTSTAMP:20240306T074439Z

URL:https://biology.technion.ac.il/en/seminars/faculty-seminar-prof-itay-t
 irosh-glioma-cellular-heterogeneity-in-time-and-space/

SUMMARY:Faculty seminar - Prof. Itay Tirosh-Glioma cellular heterogeneity i
 n time and space [No Categories]
DESCRIPTION:Location: Hybrid- in the Faculty Auditorium/ZOOM: https://techn
 ion.zoom.us/j/91883783153  Prof. Itay Tirosh\n Affiliation: \n Host:Prof. 
 Dedi Meiri \n Dear all\,\n\n&nbsp\;\n\nThis week the seminar will be given
  by Prof. Itay Tirosh from the Department of Molecular Cell Biology a t
 he Weizmann Institute of Science.\n\n&nbsp\;\n\nPlace and time: Biology 
 auditorium\, Monday 11/3 at 13:00.\n\n&nbsp\;\n\nTitle: Glioma cellular h
 eterogeneity in time and space\n\n&nbsp\;\n\nTirosh lab website: https://
 www.weizmann.ac.il/mcb/tirosh/home\n\nLooking forward to seeing you all\,\
 n\nDvir\n\n&nbsp\;\n\nZoom link: https://technion.zoom.us/j/91883783153\n
 \nFor inquiries regarding the course\, please contact Prof. Dedi Meiri &
 lt\;dmeiri@technion.ac.il&gt\;. 
LOCATION:Hybrid- in the Faculty Auditorium/ZOOM: https://technion.zoom.us/j
 /91883783153

END:VEVENT

BEGIN:VTIMEZONE

TZID:Asia/Jerusalem

X-LIC-LOCATION:Asia/Jerusalem

BEGIN:STANDARD

DTSTART:20231029T010000

TZOFFSETFROM:+0300

TZOFFSETTO:+0200

TZNAME:IST

END:STANDARD

END:VTIMEZONE
END:VCALENDAR