BEGIN:VCALENDAR

VERSION:2.0

PRODID:-//wp-events-plugin.com//7.2.2.1//EN

TZID:Asia/Jerusalem

X-WR-TIMEZONE:Asia/Jerusalem
BEGIN:VEVENT

UID:1212@biology.technion.ac.il

DTSTART;TZID=Asia/Jerusalem:20240304T130000

DTEND;TZID=Asia/Jerusalem:20240304T140000

DTSTAMP:20240229T072300Z

URL:https://biology.technion.ac.il/en/seminars/faculty-seminar-prof-moshe-
 elkabets/

SUMMARY:Faculty seminar - Prof. Moshe Elkabets [No Categories]
DESCRIPTION:Location: Hybrid- in the Faculty Auditorium/ZOOM: https://techn
 ion.zoom.us/j/91883783153  Prof. Moshe Elkabets\n Affiliation: \n Host:Pro
 f. Dedi Meiri \n &nbsp\;\n\n&nbsp\;\n\nThis week the seminar will be given
  by Prof. Moshe Elkabets from the Department of Microbiology\, Immunolo
 gy\, and Genetics at Ben-Gurion University.\n\n&nbsp\;\n\nPlace and time:
  Biology auditorium\, Monday 4/3 at 13:00.\n\n&nbsp\;\n\nTitle: Novel th
 erapeutic and diagnostic tools to fight cancer\n\n&nbsp\;\n\nElkabets lab 
 website: https://www.elkabetslab.com/\n\nLooking forward to seeing you al
 l\,\n\nDvir\n\n&nbsp\;\n\nZoom link: https://technion.zoom.us/j/918837831
 53\n\nFor inquiries regarding the course\, please contact Prof. Dedi Meir
 i &lt\;dmeiri@technion.ac.il&gt\;. 
LOCATION:Hybrid- in the Faculty Auditorium/ZOOM: https://technion.zoom.us/j
 /91883783153

END:VEVENT

BEGIN:VTIMEZONE

TZID:Asia/Jerusalem

X-LIC-LOCATION:Asia/Jerusalem

BEGIN:STANDARD

DTSTART:20231029T010000

TZOFFSETFROM:+0300

TZOFFSETTO:+0200

TZNAME:IST

END:STANDARD

END:VTIMEZONE
END:VCALENDAR