BEGIN:VCALENDAR

VERSION:2.0

PRODID:-//wp-events-plugin.com//7.2.2.1//EN

TZID:Asia/Jerusalem

X-WR-TIMEZONE:Asia/Jerusalem
BEGIN:VEVENT

UID:1217@biology.technion.ac.il

DTSTART;TZID=Asia/Jerusalem:20240401T130000

DTEND;TZID=Asia/Jerusalem:20240401T140000

DTSTAMP:20240319T071703Z

URL:https://biology.technion.ac.il/en/seminars/faculty-seminar-prof-oded-r
 echavi-molecular-memories/

SUMMARY:Faculty seminar - Prof. Oded Rechavi-Molecular Memories [No Categor
 ies]
DESCRIPTION:Location: Hybrid- in the Faculty Auditorium/ZOOM:  https://tech
 nion.zoom.us/j/91883783153  Prof. Oded Rechavi \n Affiliation: ife Science
 s\, Tel-Aviv University.\n Host:Prof. Dedi Meiri \n Dear all\,\n\nOur next
  seminar will be given by Prof. Oded Rechavi from the Department of Neu
 robiology\, The George S. Wise Faculty of Life Sciences\, Tel-Aviv Univers
 ity.\n\n&nbsp\;\n\nPlace and time: Biology auditorium\, Monday 1/4 at 13:
 00.\n\n&nbsp\;\n\nTitle: Molecular Memories\n\n&nbsp\;\n\nRechavi lab web
 site: https://www.odedrechavilab.com/\n\nLooking forward to seeing you al
 l\,\n\nDvir\n\nList of seminars: https://docs.google.com/spreadsheets/d/1
 shMP8br8GdMjl6UUTrABd7YhmPLDglDSg2UHYY443o0/edit?usp=sharing\n\nZoom link:
  https://technion.zoom.us/j/91883783153\n\nFor inquiries regarding the co
 urse\, please contact Prof. Dedi Meiri &lt\;dmeiri@technion.ac.il&gt\;. 
LOCATION:Hybrid- in the Faculty Auditorium/ZOOM:  https://technion.zoom.us/
 j/91883783153

END:VEVENT

BEGIN:VTIMEZONE

TZID:Asia/Jerusalem

X-LIC-LOCATION:Asia/Jerusalem

BEGIN:DAYLIGHT

DTSTART:20240329T030000

TZOFFSETFROM:+0200

TZOFFSETTO:+0300

TZNAME:IDT

END:DAYLIGHT

END:VTIMEZONE
END:VCALENDAR