BEGIN:VCALENDAR

VERSION:2.0

PRODID:-//wp-events-plugin.com//7.2.2.1//EN

TZID:Asia/Jerusalem

X-WR-TIMEZONE:Asia/Jerusalem
BEGIN:VEVENT

UID:1216@biology.technion.ac.il

DTSTART;TZID=Asia/Jerusalem:20240416T093000

DTEND;TZID=Asia/Jerusalem:20240416T153000

DTSTAMP:20240318T112803Z

URL:https://biology.technion.ac.il/en/seminars/mini-symposium-for-clari-va
 lansi-on-developmental-cell-biology-and-neurosciences/

SUMMARY:Mini Symposium for Clari Valansi on Developmental Cell Biology and 
 Neurosciences [No Categories]
DESCRIPTION:Location: Biology Auditorium  \n Affiliation: \n Host:\n Invite
 d Speakers :\n\n*Ori Avinoam\n\nWeizmann Institute of Science\n\n*Nicolas 
 Brukman\n\nTechnion\n\n*Yael Iosilevskii\n\nTechnion\n\n*Meital Oren-Suiss
 a\n\nWeizmann Institute of Science\n\n*Amir Sapir\n\nUniversity of Haifa-O
 ranim\n\n&nbsp\;\n\nPlease RSVP here: https://forms.gle/65JqCTiV6Ac27p1P6
 \n\n&nbsp\;\n\nOrganized by: Nir Blitz I Beni Podbilewicz  
LOCATION:Biology Auditorium

END:VEVENT

BEGIN:VTIMEZONE

TZID:Asia/Jerusalem

X-LIC-LOCATION:Asia/Jerusalem

BEGIN:DAYLIGHT

DTSTART:20240329T030000

TZOFFSETFROM:+0200

TZOFFSETTO:+0300

TZNAME:IDT

END:DAYLIGHT

END:VTIMEZONE
END:VCALENDAR