BEGIN:VCALENDAR

VERSION:2.0

PRODID:-//wp-events-plugin.com//7.2.2.1//EN

TZID:Asia/Jerusalem

X-WR-TIMEZONE:Asia/Jerusalem
BEGIN:VEVENT

UID:1250@biology.technion.ac.il

DTSTART;TZID=Asia/Jerusalem:20241120T133000

DTEND;TZID=Asia/Jerusalem:20241120T140000

DTSTAMP:20241114T134711Z

URL:https://biology.technion.ac.il/en/seminars/msc-graduate-seminar-adi-sh
 aked-levy-lab/

SUMMARY:Msc Graduate Seminar-  Adi Shaked (Levy Lab) [No Categories]
DESCRIPTION:Location: Faculty Of Biology Auditorium/ZOOM:https://technion.z
 oom.us/j/96190093354    Adi Shaked\n Affiliation: \n Host:Dr. Levy Sagi\n 
 Title: Uncovering Neuronal Plasticity Following Associative Memory in C. e
 legans\n\nAssociative learning enables animals to link a conditioned stimu
 lus\, like an odor\, with an unconditioned stimulus\, such as reward or pu
 nishment\, facilitating adaptive behavioral responses to changing environm
 ents. A central challenge in neuroscience is identifying specific neuronal
  sites where these associations are stored. To reveal learning-dependent n
 euronal changes\, we developed a setup to track neuronal plasticity in C. 
 elegans following associative learning. Our microfluidic device is unique
 ly designed to enable imaging of neuronal responses to precise stimulation
 s across multiple animals simultaneously. Using this system\, we analyzed 
 activity patterns of individual neurons as animals learned to associate an
  odor positively\, with food availability\, or negatively\, with starvatio
 n. We will present our findings on learning-dependent plastic changes in s
 ensory and premotor interneurons\, illuminating potential neural substrate
 s where associative memory may reside. 
LOCATION:Faculty Of Biology Auditorium/ZOOM:https://technion.zoom.us/j/9619
 0093354

END:VEVENT

BEGIN:VTIMEZONE

TZID:Asia/Jerusalem

X-LIC-LOCATION:Asia/Jerusalem

BEGIN:STANDARD

DTSTART:20241027T010000

TZOFFSETFROM:+0300

TZOFFSETTO:+0200

TZNAME:IST

END:STANDARD

END:VTIMEZONE
END:VCALENDAR