BEGIN:VCALENDAR

VERSION:2.0

PRODID:-//wp-events-plugin.com//7.2.2.1//EN

TZID:Asia/Jerusalem

X-WR-TIMEZONE:Asia/Jerusalem
BEGIN:VEVENT

UID:1275@biology.technion.ac.il

DTSTART;TZID=Asia/Jerusalem:20250401T130000

DTEND;TZID=Asia/Jerusalem:20250401T133000

DTSTAMP:20250330T074129Z

URL:https://biology.technion.ac.il/en/seminars/msc-graduate-seminar-carmel
 -beard/

SUMMARY:MSc Graduate Seminar-Carmel Beard [No Categories]
DESCRIPTION:Location:  Hybrid - in the Faculty Auditorium /ZOOM: https://te
 chnion.zoom.us/j/93635760084  Carmel Beard\n Affiliation: \n Host:Prof. Ga
 di Schuster  \n CBR: A Novel High-Light Expressed Protein and its Potentia
 l for Carotenoid Binding\n\nChlorella ohadii\, a green desert microalga\, 
 is notable for its ability to thrive under extreme high-light intensities\
 , a trait attributed to its efficient photoprotection mechanisms that miti
 gate photoinhibition. A novel thylakoid membrane protein\, Carotenoid Bios
 ynthesis Related (CBR)\, has been identified in high-light-grown cells of 
 this alga. This protein is suspected to be a carotenoid-binding protein an
 d\, therefore\, a crucial component of the alga's photoprotective response
 . This study reports on the successful overexpression of recombinant CBR p
 rotein in E. coli. The expressed protein was then subjected to renaturatio
 n and purification\, and subsequently reconstituted with native pigments. 
 These procedures provide the necessary reagents for future in-depth struct
 ural and functional studies of CBR. 
LOCATION: Hybrid - in the Faculty Auditorium /ZOOM: https://technion.zoom.u
 s/j/93635760084

END:VEVENT

BEGIN:VTIMEZONE

TZID:Asia/Jerusalem

X-LIC-LOCATION:Asia/Jerusalem

BEGIN:DAYLIGHT

DTSTART:20250328T030000

TZOFFSETFROM:+0200

TZOFFSETTO:+0300

TZNAME:IDT

END:DAYLIGHT

END:VTIMEZONE
END:VCALENDAR