BEGIN:VCALENDAR

VERSION:2.0

PRODID:-//wp-events-plugin.com//7.2.2.1//EN

TZID:Asia/Jerusalem

X-WR-TIMEZONE:Asia/Jerusalem
BEGIN:VEVENT

UID:1249@biology.technion.ac.il

DTSTART;TZID=Asia/Jerusalem:20241120T130000

DTEND;TZID=Asia/Jerusalem:20241120T133000

DTSTAMP:20241114T134836Z

URL:https://biology.technion.ac.il/en/seminars/msc-graduate-seminar-huichi
 -cheng-kapln-lab/

SUMMARY:Msc Graduate Seminar- Huichi Cheng (Kaplan Lab) [No Categories]
DESCRIPTION:Location: Faculty Of Biology Auditorium/ZOOM:https://technion.z
 oom.us/j/96190093354    Huichi Cheng\n Affiliation: \n Host:Associate Prof
 . Kaplan Ariel \n Title: "Using various single-molecular assays to measure
  the passage of RNA polymerase along the DNA template in optical tweezers"
 \n\nAbstract:\n\nTranscription is the subsequent step in the gene expressi
 on process. that started with the binding of RNA polymerases (RNAP) a DNA 
 template and transcribing it\, leading to the release of an RNA molecule f
 rom the DNA template. Traditional "bulk" approaches are challenging to det
 ect the dynamic nature of the transcription elongation in real-time. Optic
 al tweezers offer a unique ability to address this problem. In my project\
 , I sought to detect and characterize the RNAP movement utilizing and opti
 mizing several approaches in optical tweezers based on the literatures and
  our experimental conditions. 
LOCATION:Faculty Of Biology Auditorium/ZOOM:https://technion.zoom.us/j/9619
 0093354

END:VEVENT

BEGIN:VTIMEZONE

TZID:Asia/Jerusalem

X-LIC-LOCATION:Asia/Jerusalem

BEGIN:STANDARD

DTSTART:20241027T010000

TZOFFSETFROM:+0300

TZOFFSETTO:+0200

TZNAME:IST

END:STANDARD

END:VTIMEZONE
END:VCALENDAR