BEGIN:VCALENDAR

VERSION:2.0

PRODID:-//wp-events-plugin.com//7.2.2.1//EN

TZID:Asia/Jerusalem

X-WR-TIMEZONE:Asia/Jerusalem
BEGIN:VEVENT

UID:1257@biology.technion.ac.il

DTSTART;TZID=Asia/Jerusalem:20241211T133000

DTEND;TZID=Asia/Jerusalem:20241211T140000

DTSTAMP:20241204T133755Z

URL:https://biology.technion.ac.il/en/seminars/msc-graduate-seminar-yuval-
 moshe-haizler/

SUMMARY:Msc Graduate Seminar- Yuval Moshe Haizler [No Categories]
DESCRIPTION:Location: Hybrid- in the Faculty Auditorium/ZOOM:  https://tech
 nion.zoom.us/j/99669094452    	Yuval Moshe Haizler\n Affiliation: ool of B
 iochemistry\, Neurobiology & Biophysics\, the Faculty of Life Sciences\, T
 el-Aviv University.\n Host:Prof. Levenberg Shulamit \n Hydroxyapatite Depo
 sition for 3D Bioprinting of Vascular Bone\n \nAbstract\nThis study inves
 tigates hydroxyapatite deposition within a bio-ink composed of fibrin\, co
 llagen\, thrombin\, calcium\, and phosphate for the 3D bioprinting of vasc
 ularized bone tissue. A key objective was to examine the natural hydroxyap
 atite nucleation and growth on collagen fibers within the engineered tissu
 e during the printing and maturation processes. The bio-ink’s rheologica
 l properties were optimized to ensure precise printability and structural 
 stability. Hydroxyapatite formation under physiological conditions was suc
 cessfully demonstrated\, mimicking natural bone mineralization. The findin
 gs showcase the bio-ink’s potential as a scalable and personalized solut
 ion for bone regeneration\, paving the way for future in vivo and clinical
  applications. 
LOCATION:Hybrid- in the Faculty Auditorium/ZOOM:  https://technion.zoom.us/
 j/99669094452

END:VEVENT

BEGIN:VTIMEZONE

TZID:Asia/Jerusalem

X-LIC-LOCATION:Asia/Jerusalem

BEGIN:STANDARD

DTSTART:20241027T010000

TZOFFSETFROM:+0300

TZOFFSETTO:+0200

TZNAME:IST

END:STANDARD

END:VTIMEZONE
END:VCALENDAR