BEGIN:VCALENDAR

VERSION:2.0

PRODID:-//wp-events-plugin.com//7.2.2.1//EN

TZID:Asia/Jerusalem

X-WR-TIMEZONE:Asia/Jerusalem
BEGIN:VEVENT

UID:1265@biology.technion.ac.il

DTSTART;TZID=Asia/Jerusalem:20250129T130000

DTEND;TZID=Asia/Jerusalem:20250129T140000

DTSTAMP:20250120T122848Z

URL:https://biology.technion.ac.il/en/seminars/phd-graduate-seminar-jonath
 an-cohen/

SUMMARY:PhD Graduate Seminar-Jonathan Cohen [No Categories]
DESCRIPTION:Location: Biology auditorium and by ZOOM:https://technion.zoom.
 us/j/92510662307   Jonathan Cohen\n Affiliation: \n Host:Associate Prof. M
 eiri David \n Join us for a seminar exploring the metabolomic diversity of
  psilocybin-producing fungi and their effects on immune-related disorders.
  This research combines standardized extraction and analytical methods wit
 h metabolomic analysis and in vivo models to identify species-specific clu
 sters exhibiting anti-inflammatory properties. The findings shed light on 
 the role of fungal metabolites\, beyond psilocybin\, in mediating the immu
 ne response. 
LOCATION:Biology auditorium and by ZOOM:https://technion.zoom.us/j/92510662
 307 

END:VEVENT

BEGIN:VTIMEZONE

TZID:Asia/Jerusalem

X-LIC-LOCATION:Asia/Jerusalem

BEGIN:STANDARD

DTSTART:20241027T010000

TZOFFSETFROM:+0300

TZOFFSETTO:+0200

TZNAME:IST

END:STANDARD

END:VTIMEZONE
END:VCALENDAR