BEGIN:VCALENDAR

VERSION:2.0

PRODID:-//wp-events-plugin.com//7.2.2.1//EN

TZID:Asia/Jerusalem

X-WR-TIMEZONE:Asia/Jerusalem
BEGIN:VEVENT

UID:1204@biology.technion.ac.il

DTSTART;TZID=Asia/Jerusalem:20240228T130000

DTEND;TZID=Asia/Jerusalem:20240228T140000

DTSTAMP:20240124T141303Z

URL:https://biology.technion.ac.il/en/seminars/phd-graduate-seminar-yael-i
 osilevskii/

SUMMARY:PhD Graduate Seminar- Yael Iosilevskii [No Categories]
DESCRIPTION:Location: hybrid- in the Faculty Auditorium/ZOOM: https://techn
 ion.zoom.us/j/92242652675   Yael Iosilevskii\n Affiliation: \n Host:Prof. 
 Benjamin Podbilewicz  \n The highly arborized PVD neuron has male-specific
  function and structure in C. elegans\nThe link between sensory neuron mor
 phology and function remains difficult to ascertain\, particularly in comp
 lex organisms. The nematode Caenorhabditis elegans provides a simpler mode
 l to investigate the morphogenesis and function of dendritic arbors. I foc
 us on the bilateral neuron pair PVD\, which has been extensively studied i
 n hermaphrodites\, but not in males. My results reveal PVD develops a male
 -specific dendritic structure into the copulatory organ and plays a new ro
 le during the complex mating behavior of the male. The morphological sexua
 l dimorphism seems to stem from a male-specific expression pattern of a se
 x-shared guidance pathway controlled by the Menorin complex. In particular
 \, the epidermally expressed SAX-7/L1 Cell Adhesion Molecule (L1CAM) guide
 s PVD branches into the male copulatory organ during adulthood\, while the
  behavioral aspect likely involves several sensory circuits and depends on
  animal age. 
LOCATION:hybrid- in the Faculty Auditorium/ZOOM: https://technion.zoom.us/j
 /92242652675

END:VEVENT

BEGIN:VTIMEZONE

TZID:Asia/Jerusalem

X-LIC-LOCATION:Asia/Jerusalem

BEGIN:STANDARD

DTSTART:20231029T010000

TZOFFSETFROM:+0300

TZOFFSETTO:+0200

TZNAME:IST

END:STANDARD

END:VTIMEZONE
END:VCALENDAR