BEGIN:VCALENDAR

VERSION:2.0

PRODID:-//wp-events-plugin.com//7.2.2.1//EN

TZID:Asia/Jerusalem

X-WR-TIMEZONE:Asia/Jerusalem
BEGIN:VEVENT

UID:834@biology.technion.ac.il

DTSTART;TZID=Asia/Jerusalem:20190325T130000

DTEND;TZID=Asia/Jerusalem:20190325T140000

DTSTAMP:20210802T125855Z

URL:https://biology.technion.ac.il/en/seminars/prof-michael-glickman-facul
 ty-of-biology-technion-2/

SUMMARY:Prof. Michael Glickman\, Faculty of Biology\, Technion [No Categori
 es]
DESCRIPTION:Location:   \n Affiliation: \n Host:\n “Still struggling with
  fundamental questions in the Ubiquitin Proteasome System”\n\n\nHost Deb
 bie Lindell 

END:VEVENT

BEGIN:VTIMEZONE

TZID:Asia/Jerusalem

X-LIC-LOCATION:Asia/Jerusalem

BEGIN:STANDARD

DTSTART:20181028T010000

TZOFFSETFROM:+0300

TZOFFSETTO:+0200

TZNAME:IST

END:STANDARD

END:VTIMEZONE
END:VCALENDAR